BEGIN:VCALENDAR
VERSION:2.0
PRODID:-//Consett-ASC - ECPv6.8.3//NONSGML v1.0//EN
CALSCALE:GREGORIAN
METHOD:PUBLISH
X-ORIGINAL-URL:https://www.consett-asc.co.uk
X-WR-CALDESC:Events for Consett-ASC
REFRESH-INTERVAL;VALUE=DURATION:PT1H
X-Robots-Tag:noindex
X-PUBLISHED-TTL:PT1H
BEGIN:VTIMEZONE
TZID:Europe/London
BEGIN:DAYLIGHT
TZOFFSETFROM:+0000
TZOFFSETTO:+0100
TZNAME:BST
DTSTART:20200329T010000
END:DAYLIGHT
BEGIN:STANDARD
TZOFFSETFROM:+0100
TZOFFSETTO:+0000
TZNAME:GMT
DTSTART:20201025T010000
END:STANDARD
END:VTIMEZONE
BEGIN:VEVENT
DTSTART;TZID=Europe/London:20200809T120000
DTEND;TZID=Europe/London:20200809T140000
DTSTAMP:20260425T152313
CREATED:20200728T174040Z
LAST-MODIFIED:20200728T174040Z
UID:2219-1596974400-1596981600@www.consett-asc.co.uk
SUMMARY:Open Water Swimming - Chollerford
DESCRIPTION:Open Water Swimming in the Tyne with coach (and CASC committee member) Graham Walton. \nCost TBA.
URL:https://www.consett-asc.co.uk/event/open-water-swimming-chollerford/
LOCATION:Chollerford\, NE46 4EW
CATEGORIES:Open Water,Training
END:VEVENT
END:VCALENDAR