BEGIN:VCALENDAR
VERSION:2.0
PRODID:-//Consett-ASC - ECPv6.8.3//NONSGML v1.0//EN
CALSCALE:GREGORIAN
METHOD:PUBLISH
X-WR-CALNAME:Consett-ASC
X-ORIGINAL-URL:https://www.consett-asc.co.uk
X-WR-CALDESC:Events for Consett-ASC
REFRESH-INTERVAL;VALUE=DURATION:PT1H
X-Robots-Tag:noindex
X-PUBLISHED-TTL:PT1H
BEGIN:VTIMEZONE
TZID:Europe/London
BEGIN:DAYLIGHT
TZOFFSETFROM:+0000
TZOFFSETTO:+0100
TZNAME:BST
DTSTART:20230326T010000
END:DAYLIGHT
BEGIN:STANDARD
TZOFFSETFROM:+0100
TZOFFSETTO:+0000
TZNAME:GMT
DTSTART:20231029T010000
END:STANDARD
END:VTIMEZONE
BEGIN:VEVENT
DTSTART;VALUE=DATE:20230429
DTEND;VALUE=DATE:20230502
DTSTAMP:20260423T095051
CREATED:20230209T231558Z
LAST-MODIFIED:20230209T232742Z
UID:2476-1682726400-1682985599@www.consett-asc.co.uk
SUMMARY:Swim England North East Regional Open/Youth Championships 2023 (50m)
DESCRIPTION:Open and Youth Championships 2023 Schedule \nLong Course Qualification Times 2023 updated 100123 \n  \n 
URL:https://www.consett-asc.co.uk/event/swim-england-north-east-regional-open-youth-championships-2023-50m/
LOCATION:Ponds Forge International Sports Centre\, Ponds Forge International Sports Centre\, Sheffield\, S1 2BP\, United Kingdom
CATEGORIES:Competition,NER,Qualifiers
END:VEVENT
BEGIN:VEVENT
DTSTART;TZID=Europe/London:20230430T114500
DTEND;TZID=Europe/London:20230430T140000
DTSTAMP:20260423T095051
CREATED:20230210T151900Z
LAST-MODIFIED:20230307T202108Z
UID:2495-1682855100-1682863200@www.consett-asc.co.uk
SUMMARY:Junior League Heat 1
DESCRIPTION:Heat 1 to be held at Tynemouth 11:45 for 12:15 start. \n  \nFacebook Page
URL:https://www.consett-asc.co.uk/event/junior-league-heat-2/
LOCATION:Tynemouth\, Tynemouth Swimming Pool\, NE29 9PX\, United Kingdom
CATEGORIES:Competition,Junior League,Selected
END:VEVENT
END:VCALENDAR