BEGIN:VCALENDAR
VERSION:2.0
PRODID:-//Consett-ASC - ECPv6.8.3//NONSGML v1.0//EN
CALSCALE:GREGORIAN
METHOD:PUBLISH
X-WR-CALNAME:Consett-ASC
X-ORIGINAL-URL:https://www.consett-asc.co.uk
X-WR-CALDESC:Events for Consett-ASC
REFRESH-INTERVAL;VALUE=DURATION:PT1H
X-Robots-Tag:noindex
X-PUBLISHED-TTL:PT1H
BEGIN:VTIMEZONE
TZID:Europe/London
BEGIN:DAYLIGHT
TZOFFSETFROM:+0000
TZOFFSETTO:+0100
TZNAME:BST
DTSTART:20230326T010000
END:DAYLIGHT
BEGIN:STANDARD
TZOFFSETFROM:+0100
TZOFFSETTO:+0000
TZNAME:GMT
DTSTART:20231029T010000
END:STANDARD
END:VTIMEZONE
BEGIN:VEVENT
DTSTART;VALUE=DATE:20230513
DTEND;VALUE=DATE:20230515
DTSTAMP:20260423T075822
CREATED:20230209T232244Z
LAST-MODIFIED:20230209T232658Z
UID:2483-1683936000-1684108799@www.consett-asc.co.uk
SUMMARY:Swim England North East Regional Age Group Championships 2023 (50m) weekend 2
DESCRIPTION:Age Group 50m Championships Events 2023 \nLong Course Qualification Times 2023 updated 100123 \n 
URL:https://www.consett-asc.co.uk/event/swim-england-north-east-regional-age-group-championships-2023-50m-weekend-2/
LOCATION:Sunderland Aquatic Centre\, Sunderland Aquatic Centre\, SR5 1SU\, United Kingdom
CATEGORIES:Competition,NER,Qualifiers
END:VEVENT
END:VCALENDAR