BEGIN:VCALENDAR
VERSION:2.0
PRODID:-//Consett-ASC - ECPv6.8.3//NONSGML v1.0//EN
CALSCALE:GREGORIAN
METHOD:PUBLISH
X-WR-CALNAME:Consett-ASC
X-ORIGINAL-URL:https://www.consett-asc.co.uk
X-WR-CALDESC:Events for Consett-ASC
REFRESH-INTERVAL;VALUE=DURATION:PT1H
X-Robots-Tag:noindex
X-PUBLISHED-TTL:PT1H
BEGIN:VTIMEZONE
TZID:Europe/London
BEGIN:DAYLIGHT
TZOFFSETFROM:+0000
TZOFFSETTO:+0100
TZNAME:BST
DTSTART:20190331T010000
END:DAYLIGHT
BEGIN:STANDARD
TZOFFSETFROM:+0100
TZOFFSETTO:+0000
TZNAME:GMT
DTSTART:20191027T010000
END:STANDARD
BEGIN:DAYLIGHT
TZOFFSETFROM:+0000
TZOFFSETTO:+0100
TZNAME:BST
DTSTART:20200329T010000
END:DAYLIGHT
BEGIN:STANDARD
TZOFFSETFROM:+0100
TZOFFSETTO:+0000
TZNAME:GMT
DTSTART:20201025T010000
END:STANDARD
BEGIN:DAYLIGHT
TZOFFSETFROM:+0000
TZOFFSETTO:+0100
TZNAME:BST
DTSTART:20210328T010000
END:DAYLIGHT
BEGIN:STANDARD
TZOFFSETFROM:+0100
TZOFFSETTO:+0000
TZNAME:GMT
DTSTART:20211031T010000
END:STANDARD
BEGIN:DAYLIGHT
TZOFFSETFROM:+0000
TZOFFSETTO:+0100
TZNAME:BST
DTSTART:20220327T010000
END:DAYLIGHT
BEGIN:STANDARD
TZOFFSETFROM:+0100
TZOFFSETTO:+0000
TZNAME:GMT
DTSTART:20221030T010000
END:STANDARD
BEGIN:DAYLIGHT
TZOFFSETFROM:+0000
TZOFFSETTO:+0100
TZNAME:BST
DTSTART:20230326T010000
END:DAYLIGHT
BEGIN:STANDARD
TZOFFSETFROM:+0100
TZOFFSETTO:+0000
TZNAME:GMT
DTSTART:20231029T010000
END:STANDARD
END:VTIMEZONE
BEGIN:VEVENT
DTSTART;VALUE=DATE:20230225
DTEND;VALUE=DATE:20230227
DTSTAMP:20260420T141917
CREATED:20230209T222113Z
LAST-MODIFIED:20230219T151758Z
UID:2459-1677283200-1677455999@www.consett-asc.co.uk
SUMMARY:Northumberland & Durham 2023 Championships Weekend 2
DESCRIPTION:For meet information click here. \nSwimmers must have achieved an entry time equal to or faster than the Long Course Qualifying Times in the attached document. \nAge as at 31 December 2023. \nFinal Club Information Weekend 2 \nLive Results
URL:https://www.consett-asc.co.uk/event/northumberland-durham-2023-championships-weekend-2/
LOCATION:Sunderland Aquatic Centre\, Sunderland Aquatic Centre\, SR5 1SU\, United Kingdom
CATEGORIES:Competition,N&D,Qualifiers
END:VEVENT
BEGIN:VEVENT
DTSTART;VALUE=DATE:20230203
DTEND;VALUE=DATE:20230206
DTSTAMP:20260420T141917
CREATED:20230209T223328Z
LAST-MODIFIED:20230209T225132Z
UID:2463-1675382400-1675641599@www.consett-asc.co.uk
SUMMARY:Northumberland & Durham 2023 Championships Weekend 1
DESCRIPTION:For meet information click here. \nDraft Programme (version 19.01.23) \nFinal Club Information Weekend 1 \nSwimmers must have achieved an entry time equal to or faster than the Long Course Qualifying Times in the attached document. \nAge as at 31 December 2023. \nLive Results \nResults \nFriday 3rd February \nSaturday 4th February (morning)  \nSaturday 4th February (afternoon)  \nSunday 5th February (morning) \nSunday 5th February (afternoon)
URL:https://www.consett-asc.co.uk/event/northumberland-durham-2023-championships-weekend-1/
LOCATION:Sunderland Aquatic Centre\, Sunderland Aquatic Centre\, SR5 1SU\, United Kingdom
CATEGORIES:Competition,N&D,Qualifiers
END:VEVENT
BEGIN:VEVENT
DTSTART;VALUE=DATE:20211009
DTEND;VALUE=DATE:20211010
DTSTAMP:20260420T141917
CREATED:20210929T192352Z
LAST-MODIFIED:20210930T081521Z
UID:2394-1633737600-1633823999@www.consett-asc.co.uk
SUMMARY:Derwentside October Invitation Meet
DESCRIPTION:Due to this Meet being undersubscribed the organisers have taken the decision to reduce it to one day only. \nTo see the revised schedule click here. \nWarm ups 8:30am – 9:30am and 1:00pm – 2:00pm \nOctober Invitation Meet 2021 Schedule & Conditions
URL:https://www.consett-asc.co.uk/event/derwentside-october-invitation-meet/
LOCATION:The Louisa Centre\, The Louise Centre\, Stanley\, County Durham\, DH9 0TE\, United Kingdom
CATEGORIES:Competition,Invitees
END:VEVENT
BEGIN:VEVENT
DTSTART;TZID=Europe/London:20200906T080000
DTEND;TZID=Europe/London:20200906T170000
DTSTAMP:20260420T141917
CREATED:20191202T214631Z
LAST-MODIFIED:20200813T094247Z
UID:1969-1599379200-1599411600@www.consett-asc.co.uk
SUMMARY:Junior League Final 2020 - Cancelled
DESCRIPTION:Meet Information TBA
URL:https://www.consett-asc.co.uk/event/junior-league-final-2029/
LOCATION:Tynemouth\, Tynemouth Swimming Pool\, NE29 9PX\, United Kingdom
CATEGORIES:Competition,Junior League
END:VEVENT
BEGIN:VEVENT
DTSTART;TZID=Europe/London:20200809T120000
DTEND;TZID=Europe/London:20200809T140000
DTSTAMP:20260420T141917
CREATED:20200728T174040Z
LAST-MODIFIED:20200728T174040Z
UID:2219-1596974400-1596981600@www.consett-asc.co.uk
SUMMARY:Open Water Swimming - Chollerford
DESCRIPTION:Open Water Swimming in the Tyne with coach (and CASC committee member) Graham Walton. \nCost TBA.
URL:https://www.consett-asc.co.uk/event/open-water-swimming-chollerford/
LOCATION:Chollerford\, NE46 4EW
CATEGORIES:Open Water,Training
END:VEVENT
BEGIN:VEVENT
DTSTART;TZID=Europe/London:20200712T090000
DTEND;TZID=Europe/London:20200712T120000
DTSTAMP:20260420T141917
CREATED:20190909T213446Z
LAST-MODIFIED:20200510T210103Z
UID:1815-1594544400-1594555200@www.consett-asc.co.uk
SUMMARY:Junior League Gala 4 2020 Cancelled
DESCRIPTION:Warm up 9:10 for a 9:40 start. \nLane       Club\n1              Durham\n2              Hetton\n3              Consett\n4              Derwentside\n5              Eston\n6              Thornaby \nThis event has been cancelled due to the Covid-19 pandemic.
URL:https://www.consett-asc.co.uk/event/junior-league-gala-4-2020/
LOCATION:Neptune Centre\, Neptune Centre\, TS3 7RP\, United Kingdom
CATEGORIES:Competition,Junior League
END:VEVENT
BEGIN:VEVENT
DTSTART;TZID=Europe/London:20200705T080000
DTEND;TZID=Europe/London:20200705T170000
DTSTAMP:20260420T141917
CREATED:20190709T054652Z
LAST-MODIFIED:20200627T062229Z
UID:1752-1593936000-1593968400@www.consett-asc.co.uk
SUMMARY:Northumberland & Durham County Masters Championships 2020 - Cancelled
DESCRIPTION:Meet Information TBA
URL:https://www.consett-asc.co.uk/event/northumberland-durham-county-masters-championships-2020/
LOCATION:Haven Point\, Haven Point\, NE33 2JS\, United Kingdom
CATEGORIES:Competition,Masters,N&D
END:VEVENT
BEGIN:VEVENT
DTSTART;TZID=Europe/London:20200606T080000
DTEND;TZID=Europe/London:20200607T170000
DTSTAMP:20260420T141917
CREATED:20190909T211540Z
LAST-MODIFIED:20200507T054152Z
UID:1799-1591430400-1591549200@www.consett-asc.co.uk
SUMMARY:Derwentside Charity Meet 2020 - Cancelled
DESCRIPTION:Meet Information and Upper Time Limits \nMeet Schedule \nClosing date for entries\, Tuesday 14th April. \nThis event has been cancelled due to the Covid-19 pandemic. \n 
URL:https://www.consett-asc.co.uk/event/derwentside-charity-meet-2020/
LOCATION:The Louisa Centre\, The Louise Centre\, Stanley\, County Durham\, DH9 0TE\, United Kingdom
CATEGORIES:Competition,Qualifiers,Selected
END:VEVENT
BEGIN:VEVENT
DTSTART;TZID=Europe/London:20200530T110000
DTEND;TZID=Europe/London:20200530T150000
DTSTAMP:20260420T141917
CREATED:20190909T212244Z
LAST-MODIFIED:20200507T054717Z
UID:1805-1590836400-1590850800@www.consett-asc.co.uk
SUMMARY:Junior League Gala 3 2020 - Cancelled
DESCRIPTION:Warm up 11:45 for 12:30 start. \nLane       Club\n1              Derwentside\n2              Eston\n3              Thornaby\n4              Durham\n5              Consett\n6              Hetton \nThis event has been cancelled due to the Covid-19 pandemic.
URL:https://www.consett-asc.co.uk/event/junior-league-gala-3-2020/
LOCATION:Tynemouth\, Tynemouth Swimming Pool\, NE29 9PX\, United Kingdom
CATEGORIES:Competition,Junior League
END:VEVENT
BEGIN:VEVENT
DTSTART;TZID=Europe/London:20200516T080000
DTEND;TZID=Europe/London:20200517T170000
DTSTAMP:20260420T141917
CREATED:20190909T213214Z
LAST-MODIFIED:20200507T054505Z
UID:1811-1589616000-1589734800@www.consett-asc.co.uk
SUMMARY:Wear Valley Meet 2020 - Cancelled
DESCRIPTION:Meet Information \nClosing date for entries Wednesday 8th April. \nThis event has been cancelled due to the Covid-19 pandemic.
URL:https://www.consett-asc.co.uk/event/wear-valley-meet-2020/
LOCATION:Wear Valley\, Woodhouse Close Leisure Complex\, Bishop Auckland\, County Durham\, DL14 6JX\, United Kingdom
CATEGORIES:Competition,Selected
END:VEVENT
BEGIN:VEVENT
DTSTART;TZID=Europe/London:20200509T080000
DTEND;TZID=Europe/London:20200510T170000
DTSTAMP:20260420T141917
CREATED:20190910T201036Z
LAST-MODIFIED:20200507T054804Z
UID:1819-1589011200-1589130000@www.consett-asc.co.uk
SUMMARY:North East Regional Age Group Championships 2020 Weekend 2 - Cancelled
DESCRIPTION:Meet Information \nSchedule of Events \nQualifying Times \nThis event has been cancelled due to the Covid-19 pandemic.
URL:https://www.consett-asc.co.uk/event/north-east-regional-age-group-championships-2020-weekend-2/
LOCATION:John Charles Centre for Sport\, John Charles Centre for Sport\, Leeds\, LS11 5DJ\, United Kingdom
CATEGORIES:Competition,NER,Qualifiers
END:VEVENT
BEGIN:VEVENT
DTSTART;TZID=Europe/London:20200502T080000
DTEND;TZID=Europe/London:20200503T170000
DTSTAMP:20260420T141917
CREATED:20190910T201213Z
LAST-MODIFIED:20200507T054916Z
UID:1821-1588406400-1588525200@www.consett-asc.co.uk
SUMMARY:North East Regional Open Championships 2020 -  Cancelled
DESCRIPTION:Meet Information \nSchedule of Events \nQualifying Times \nThis event has been cancelled due to the Covid-19 pandemic.
URL:https://www.consett-asc.co.uk/event/north-east-regional-open-championships-2020/
LOCATION:Ponds Forge International Sports Centre\, Ponds Forge International Sports Centre\, Sheffield\, S1 2BP\, United Kingdom
CATEGORIES:Competition,NER,Qualifiers
END:VEVENT
BEGIN:VEVENT
DTSTART;TZID=Europe/London:20200425T080000
DTEND;TZID=Europe/London:20200426T170000
DTSTAMP:20260420T141917
CREATED:20190910T200926Z
LAST-MODIFIED:20200507T054622Z
UID:1817-1587801600-1587920400@www.consett-asc.co.uk
SUMMARY:North East Regional Age Group Championships 2020 Weekend 1 - Cancelled
DESCRIPTION:Meet Information \nSchedule of Events \nQualifying Times \nThis event has been cancelled due to the Covid-19 pandemic.
URL:https://www.consett-asc.co.uk/event/north-east-regional-age-group-championships-2020-weekend-1/
LOCATION:John Charles Centre for Sport\, John Charles Centre for Sport\, Leeds\, LS11 5DJ\, United Kingdom
CATEGORIES:Competition,NER,Qualifiers
END:VEVENT
BEGIN:VEVENT
DTSTART;TZID=Europe/London:20200418T080000
DTEND;TZID=Europe/London:20200419T170000
DTSTAMP:20260420T141917
CREATED:20190909T212916Z
LAST-MODIFIED:20200507T054426Z
UID:1809-1587196800-1587315600@www.consett-asc.co.uk
SUMMARY:Chester-le-Street Open 2020 - Cancelled
DESCRIPTION:Meet Information \nClosing date for entries Wednesday 18th March. \nThis event has been cancelled due to the Covid-19 pandemic.
URL:https://www.consett-asc.co.uk/event/chester-le-street-open-2020/
LOCATION:Chester-le-Street\, Burns Green Leisure Centre\, DH3 3QH\, United Kingdom
CATEGORIES:Competition,Selected
END:VEVENT
BEGIN:VEVENT
DTSTART;TZID=Europe/London:20200321T080000
DTEND;TZID=Europe/London:20200322T170000
DTSTAMP:20260420T141917
CREATED:20190909T212619Z
LAST-MODIFIED:20200317T173325Z
UID:1807-1584777600-1584896400@www.consett-asc.co.uk
SUMMARY:North Tyneside Mad March Hare 2020 - Cancelled
DESCRIPTION:Meet Information \nProgramme of Events & Qualifying Times \nClosing date for entries Wednesday 12th February. \nAccepted Entries Mad March Hare Gala \nThe event has been cancelled \n 
URL:https://www.consett-asc.co.uk/event/north-tyneside-mad-march-hare-2020/
LOCATION:The Louisa Centre\, The Louise Centre\, Stanley\, County Durham\, DH9 0TE\, United Kingdom
CATEGORIES:Competition,Selected
END:VEVENT
BEGIN:VEVENT
DTSTART;TZID=Europe/London:20200314T080000
DTEND;TZID=Europe/London:20200315T170000
DTSTAMP:20260420T141917
CREATED:20190909T211212Z
LAST-MODIFIED:20200226T214544Z
UID:1797-1584172800-1584291600@www.consett-asc.co.uk
SUMMARY:Derwentside Development Meet 2020
DESCRIPTION:Meet Information \nClosing date for entries Sunday 9th February. \nWarm up times each day: \n08:30am \n12:30pm \nConsett ASC Accepted Entries V2 \nAll Accepted Entries V2
URL:https://www.consett-asc.co.uk/event/derwentside-development-meet-2020/
LOCATION:The Louisa Centre\, The Louise Centre\, Stanley\, County Durham\, DH9 0TE\, United Kingdom
CATEGORIES:Competition,Selected
END:VEVENT
BEGIN:VEVENT
DTSTART;TZID=Europe/London:20200301T080000
DTEND;TZID=Europe/London:20200301T170000
DTSTAMP:20260420T141917
CREATED:20190709T053920Z
LAST-MODIFIED:20200302T095821Z
UID:1750-1583049600-1583082000@www.consett-asc.co.uk
SUMMARY:Northumberland & Durham County Teams Championships 2020
DESCRIPTION:NDSA Championships 2020 Meet Information v3 \nNDSA Teams Day 2020 Meet Information \nOnline Results \nNDSA Teams Day 2020 Final Club Information \n2020 Teams Day draft prog v1 \nN&D Teams Results Session 1 \nN&D Teams Results Session 2
URL:https://www.consett-asc.co.uk/event/northumberland-durham-county-teams-championships-2020/
LOCATION:Sunderland Aquatic Centre\, Sunderland Aquatic Centre\, SR5 1SU\, United Kingdom
CATEGORIES:Committee,N&D
END:VEVENT
BEGIN:VEVENT
DTSTART;TZID=Europe/London:20200214T170000
DTEND;TZID=Europe/London:20200216T170000
DTSTAMP:20260420T141917
CREATED:20190709T053447Z
LAST-MODIFIED:20200219T225003Z
UID:1748-1581699600-1581872400@www.consett-asc.co.uk
SUMMARY:Northumberland & Durham County Championships 2020
DESCRIPTION:NDSA Championships 2020 Meet Information v3 \nDraft Programme Weekend 2 2020 v1 \nWarm up/start times: \nEvening 5pm warm up for 6pm start (14th February only) \nMornings 8am warm up for 9am start \nAfternoons 1pm warm up for 2pm start \nOnline Results \nFinal Club Information Weekend 2 \nResults Day 3 – Friday 14th February \nResults Day 4 – Saturday 15th February Morning Session \nResults Day 4 – Saturday 15th February Afternoon Session \nResults Day 5 – Sunday 16th February Morning Session \nResults Day 5 – Sunday 16th February Afternoon Session
URL:https://www.consett-asc.co.uk/event/northumberland-durham-county-championships-2020-2/
LOCATION:Sunderland Aquatic Centre\, Sunderland Aquatic Centre\, SR5 1SU\, United Kingdom
CATEGORIES:Competition,N&D
END:VEVENT
BEGIN:VEVENT
DTSTART;TZID=Europe/London:20200208T080000
DTEND;TZID=Europe/London:20200209T170000
DTSTAMP:20260420T141917
CREATED:20190909T211951Z
LAST-MODIFIED:20200210T164459Z
UID:1801-1581148800-1581267600@www.consett-asc.co.uk
SUMMARY:City of Durham Valentines Gala 2020
DESCRIPTION:Meet Information \nAccepted Entries \nFinal Meet Information \nWarm up both days: \n08:30 – Girls –11 and under – 12 and over \n09:00 – Boys – 11 and under – 12 and over \nMorning start time ​09:30 \nLunch Break ​11:45 \n12:30 – Boys – 11 and under – 12 and over \n​13:00 – Girls  –11 and under – 12 and over \nAfternoon start time 13:30 \nAnticipated finish time ​15:15 \nCar Parking \nOpen air car parking at Freemans Quay is now closed \nNext to Freemans quay there is a multi-storey car park priced @£1-80 per 2 hours \nOther car parking: \nPast the Raddison on the Left Hand side there is a large car park that is £3-60 all day Saturday and Sunday (no Hourly rate in this car park).   \nTo locate this car park follow signs to Raddison Hotel. \nThere is limited free parking on Sundays only on the road outside the Raddison Hotel which is a short walk to Freemans Quay.     \nDurham has a park and ride on Saturdays from 3 locations outside of the city centre that are well signposted\, the bus stops close to Freemans Quay on Milburngate Bridge. \nPlease Note: \nThere is one swimmer who will be videoed for their GCSE during 2 events on Saturday afternoon session an announcement will made when this takes place. \nResults
URL:https://www.consett-asc.co.uk/event/city-of-durham-valentines-gala-2020/
LOCATION:Freemans Quay\, Freeman's Quay Leisure Centre\, DH1 1SW\, United Kingdom
CATEGORIES:Competition,Selected
END:VEVENT
BEGIN:VEVENT
DTSTART;TZID=Europe/London:20200201T080000
DTEND;TZID=Europe/London:20200202T170000
DTSTAMP:20260420T141917
CREATED:20190709T053114Z
LAST-MODIFIED:20200219T224517Z
UID:1746-1580544000-1580662800@www.consett-asc.co.uk
SUMMARY:Northumberland & Durham County Championships 2020
DESCRIPTION:NDSA Championships 2020 Meet Information v3 \nDraft Programme Weekend 1 2020 v1.pdf \nWarm up/start times: \nMornings 8am warm up for 9am start \nAfternoons 1pm warm up for 2pm start \nPlease Note: Swimmers\, coaches and team managers will not be permitted onto poolside until 7.30am each day\, and access for spectators will not be before 8am each day. \nFinal Club Information Weekend 1 \nOnline Results \nResults Day 1 – Saturday 1st February Morning Session \nResults Day 1 – Saturday 1st February Afternoon Session \nResults Day 2 – Sunday 2nd February Morning Session \nResults Day 2 – Sunday 2nd February Afternoon Session
URL:https://www.consett-asc.co.uk/event/northumberland-durham-county-championships-2020/
LOCATION:Sunderland Aquatic Centre\, Sunderland Aquatic Centre\, SR5 1SU\, United Kingdom
CATEGORIES:Competition,N&D
END:VEVENT
BEGIN:VEVENT
DTSTART;TZID=Europe/London:20200119T090000
DTEND;TZID=Europe/London:20200119T120000
DTSTAMP:20260420T141917
CREATED:20190909T205905Z
LAST-MODIFIED:20191202T220100Z
UID:1790-1579424400-1579435200@www.consett-asc.co.uk
SUMMARY:Junior League Gala 1 2020
DESCRIPTION:Warm up starts 9:10 for a 9:40 start. \nLane   Club\n1         Eston\n2         Consett\n3         Thornaby\n4         Hetton\n5         Durham\n6         Consett \n 
URL:https://www.consett-asc.co.uk/event/junior-league-gala-1-2020/
LOCATION:The Louisa Centre\, The Louise Centre\, Stanley\, County Durham\, DH9 0TE\, United Kingdom
CATEGORIES:Competition,Junior League
END:VEVENT
BEGIN:VEVENT
DTSTART;TZID=Europe/London:20200111T080000
DTEND;TZID=Europe/London:20200112T170000
DTSTAMP:20260420T141917
CREATED:20190909T205708Z
LAST-MODIFIED:20200120T194437Z
UID:1785-1578729600-1578848400@www.consett-asc.co.uk
SUMMARY:Derwentside / Peterlee New Year Meet 2020
DESCRIPTION:Schedule of Events \nMeet Information \nUpper Time Limits  Cannot be faster than these times. \nClosing date for entries Friday 22nd November. \nAccepted Entries CASC Only \nAccepted Entries All \nResults
URL:https://www.consett-asc.co.uk/event/derwentside-peterlee-new-year-meet-2020/
LOCATION:The Louisa Centre\, The Louise Centre\, Stanley\, County Durham\, DH9 0TE\, United Kingdom
CATEGORIES:Competition,Invitees
END:VEVENT
BEGIN:VEVENT
DTSTART;TZID=Europe/London:20191227T180000
DTEND;TZID=Europe/London:20191227T180000
DTSTAMP:20260420T141917
CREATED:20191126T120815Z
LAST-MODIFIED:20191126T120815Z
UID:1951-1577469600-1577469600@www.consett-asc.co.uk
SUMMARY:Christmas Party 2019
DESCRIPTION:Our Christmas Party will be held at The Demi on 27th December from 6pm until late.  Tickets will be on sale for £1 per person (see Facebook group for more information).  There’ll be music\, party games and hopefully not too many sore heads the next day!  Please bring a plate of food.
URL:https://www.consett-asc.co.uk/event/christmas-party-2019/
LOCATION:The Demi\, 45 Albert Rd\, Consett\, DH8 5QU\, United Kingdom
CATEGORIES:Social
END:VEVENT
BEGIN:VEVENT
DTSTART;TZID=Europe/London:20191220T180000
DTEND;TZID=Europe/London:20191220T210000
DTSTAMP:20260420T141917
CREATED:20191201T194540Z
LAST-MODIFIED:20191201T194540Z
UID:1965-1576864800-1576875600@www.consett-asc.co.uk
SUMMARY:Christmas Fun Session
DESCRIPTION:Friday 20th December is our last session before Christmas and it’s going to be fun\, fun\, fun! \nPlease come at your normal session time and instead of normal teaching and training sessions we’re going to make it even more fun with the addition of floats\, rafts and the slide! \nFor the squad swimmers there may be some crazy raft races or water polo too. \nI think some of the teachers and coaches may be in the pool\, but which of them will jump and who will be pushed??? \nWhat a fab way to end our regular sessions for 2019! \n 
URL:https://www.consett-asc.co.uk/event/christmas-fun-session/
LOCATION:Consett Leisure Centre\, Dh8 5EU\, United Kingdom
CATEGORIES:Training
END:VEVENT
BEGIN:VEVENT
DTSTART;TZID=Europe/London:20191217T190000
DTEND;TZID=Europe/London:20191217T210000
DTSTAMP:20260420T141917
CREATED:20191201T193204Z
LAST-MODIFIED:20191201T193204Z
UID:1963-1576609200-1576616400@www.consett-asc.co.uk
SUMMARY:Pool Closed Due to Essential Maintenance
DESCRIPTION:No training today\, sorry!
URL:https://www.consett-asc.co.uk/event/pool-closed-due-to-essential-maintenance/
LOCATION:Consett Leisure Centre\, Dh8 5EU\, United Kingdom
CATEGORIES:Training
END:VEVENT
BEGIN:VEVENT
DTSTART;TZID=Europe/London:20191130T080000
DTEND;TZID=Europe/London:20191201T170000
DTSTAMP:20260420T141917
CREATED:20190909T204037Z
LAST-MODIFIED:20191203T121752Z
UID:1782-1575100800-1575219600@www.consett-asc.co.uk
SUMMARY:Derwentside Christmas Cracker 2019
DESCRIPTION:Meet Information \nClosing date for entries Sunday 13th October \nAccepted Entries \nResults
URL:https://www.consett-asc.co.uk/event/derwentside-christmas-cracker-2019/
LOCATION:The Louisa Centre\, The Louise Centre\, Stanley\, County Durham\, DH9 0TE\, United Kingdom
CATEGORIES:Competition,Invitees,Qualifiers
END:VEVENT
BEGIN:VEVENT
DTSTART;TZID=Europe/London:20191115T170000
DTEND;TZID=Europe/London:20191117T170000
DTSTAMP:20260420T141917
CREATED:20190909T203401Z
LAST-MODIFIED:20191010T060050Z
UID:1780-1573837200-1574010000@www.consett-asc.co.uk
SUMMARY:City of Sunderland Autumn Meet - CANCELLED
DESCRIPTION:Meet Information \nClosing date for entries Friday 4th October. \n£7.50 per event\, £12 for 800m & 1500m events. \nThis gala has been cancelled by Sunderland ASC due to lack of entries. Full refunds will be given ASAP for any entries submitted by Consett ASC members.
URL:https://www.consett-asc.co.uk/event/city-of-sunderland-autumn-meet/
LOCATION:Sunderland Aquatic Centre\, Sunderland Aquatic Centre\, SR5 1SU\, United Kingdom
CATEGORIES:Competition,Invitees,Qualifiers
END:VEVENT
BEGIN:VEVENT
DTSTART;TZID=Europe/London:20191102T080000
DTEND;TZID=Europe/London:20191103T170000
DTSTAMP:20260420T141917
CREATED:20190605T052023Z
LAST-MODIFIED:20191102T125157Z
UID:1684-1572681600-1572800400@www.consett-asc.co.uk
SUMMARY:North East Regional Short Course Championships
DESCRIPTION:Meet Information and Qualification Times \nAge Groups (11-13yrs) \nOpen (14yrs+) \nAge at 31st December 2019 \nLive Stream Links…. \nAge Groups Day 1 09:00 \nAge Groups Day 1 13:15 \nAge Groups Day 2 09:00 \nAge Groups Day 2 13:15 \nOpen Day 1 09:00 \nOpen Day 1 13:15 \nOpen Day 1 16:15 \nOpen Day 2 09:00 \nOpen Day 2 13:15 \nOpen Day 2 16:15 \nLive Results Links… \nAge Group Live Results \nOpen Live Results \n 
URL:https://www.consett-asc.co.uk/event/north-east-regional-age-group-short-course-championships/
LOCATION:Ponds Forge International Sports Centre\, Ponds Forge International Sports Centre\, Sheffield\, S1 2BP\, United Kingdom
CATEGORIES:Competition,NER
END:VEVENT
BEGIN:VEVENT
DTSTART;TZID=Europe/London:20191025T170000
DTEND;TZID=Europe/London:20191027T170000
DTSTAMP:20260420T141917
CREATED:20190708T161619Z
LAST-MODIFIED:20191028T162849Z
UID:1743-1572022800-1572195600@www.consett-asc.co.uk
SUMMARY:Chester le Street Junior Gala 2019
DESCRIPTION:Meet Information \nClosing date for entries Friday 20th September 7:30pm. \nAccepted Entries \nDraft Programme \nLive Results \nResults Session 1 \nResults Session 2 \nResults Session 3 \nResults Session 4 \nResults Session 5 \nWhat is skins?\nA skins event is an exciting series of back-to-back races which operate on a knockout basis\, with the two remaining swimmers racing each other in a head-to-head final race. Swimmers qualify for the skins event by placing in the top six for the 200IM in the following categories; \n\nBoys 12 and under\nGirls 12 and under\nBoys 13 and 14\nGirls 13 and 14\n\nStrokes are drawn out of a hat (usually in the form of coloured balls) and swimmers race 50 metres. The slowest swimmer is eliminated in each round. \nUsually\, two skins events are run at a time one or two minutes apart (alternating). The two events are usually different age groups. This gives swimmers very little rest and means it is a very fast and exciting event. \nIn the first round\, swimmers are started normally with whistles from the referee and “take your marks” from the starter before the start signal. In all other rounds\, swimmers are only given a ten second warning by the starter and then the start signal. Swimmers themselves must think carefully about how long they have on the blocks without false starting. \nPrizes are offered for winners.
URL:https://www.consett-asc.co.uk/event/chester-le-street-junior-gala-2019/
LOCATION:Chester-le-Street\, Burns Green Leisure Centre\, DH3 3QH\, United Kingdom
CATEGORIES:Competition
END:VEVENT
BEGIN:VEVENT
DTSTART;TZID=Europe/London:20191011T170000
DTEND;TZID=Europe/London:20191013T170000
DTSTAMP:20260420T141917
CREATED:20190908T082032Z
LAST-MODIFIED:20191013T210432Z
UID:1770-1570813200-1570986000@www.consett-asc.co.uk
SUMMARY:BOSSS Winter Meet
DESCRIPTION:Meet Information \nClosing date for entries Sunday 15th September. \nEntries are £6.50 and £7.50 for 400m \nAccepted Entries (CASC Only) \nSession 1 Results \nSession 2 Results \nSession 3 Results \nSession 4 Results \nSession 5 Results
URL:https://www.consett-asc.co.uk/event/bosss-winter-meet/
LOCATION:Billingham\, TS23 2LU
CATEGORIES:Competition,Selected
END:VEVENT
END:VCALENDAR