BEGIN:VCALENDAR
VERSION:2.0
PRODID:-//Consett-ASC - ECPv6.8.3//NONSGML v1.0//EN
CALSCALE:GREGORIAN
METHOD:PUBLISH
X-WR-CALNAME:Consett-ASC
X-ORIGINAL-URL:https://www.consett-asc.co.uk
X-WR-CALDESC:Events for Consett-ASC
REFRESH-INTERVAL;VALUE=DURATION:PT1H
X-Robots-Tag:noindex
X-PUBLISHED-TTL:PT1H
BEGIN:VTIMEZONE
TZID:Europe/London
BEGIN:DAYLIGHT
TZOFFSETFROM:+0000
TZOFFSETTO:+0100
TZNAME:BST
DTSTART:20180325T010000
END:DAYLIGHT
BEGIN:STANDARD
TZOFFSETFROM:+0100
TZOFFSETTO:+0000
TZNAME:GMT
DTSTART:20181028T010000
END:STANDARD
END:VTIMEZONE
BEGIN:VEVENT
DTSTART;TZID=Europe/London:20180629T200000
DTEND;TZID=Europe/London:20180629T210000
DTSTAMP:20260424T125327
CREATED:20180626T171157Z
LAST-MODIFIED:20180702T115357Z
UID:811-1530302400-1530306000@www.consett-asc.co.uk
SUMMARY:Bi-Monthly Bleep Test
DESCRIPTION:Results
URL:https://www.consett-asc.co.uk/event/bi-monthly-bleep-test/
LOCATION:County Durham
CATEGORIES:Bleep Test,Competition
END:VEVENT
BEGIN:VEVENT
DTSTART;VALUE=DATE:20180609
DTEND;VALUE=DATE:20180611
DTSTAMP:20260424T125327
CREATED:20180510T183719Z
LAST-MODIFIED:20180612T195725Z
UID:171-1528502400-1528675199@www.consett-asc.co.uk
SUMMARY:Derwentside Charity Gala
DESCRIPTION:Meet Information \nMeet Results
URL:https://www.consett-asc.co.uk/event/derwentside-charity-gala/
LOCATION:The Louisa Centre\, The Louise Centre\, Stanley\, County Durham\, DH9 0TE\, United Kingdom
END:VEVENT
END:VCALENDAR