BEGIN:VCALENDAR
VERSION:2.0
PRODID:-//Consett-ASC - ECPv6.8.3//NONSGML v1.0//EN
CALSCALE:GREGORIAN
METHOD:PUBLISH
X-WR-CALNAME:Consett-ASC
X-ORIGINAL-URL:https://www.consett-asc.co.uk
X-WR-CALDESC:Events for Consett-ASC
REFRESH-INTERVAL;VALUE=DURATION:PT1H
X-Robots-Tag:noindex
X-PUBLISHED-TTL:PT1H
BEGIN:VTIMEZONE
TZID:Europe/London
BEGIN:DAYLIGHT
TZOFFSETFROM:+0000
TZOFFSETTO:+0100
TZNAME:BST
DTSTART:20230326T010000
END:DAYLIGHT
BEGIN:STANDARD
TZOFFSETFROM:+0100
TZOFFSETTO:+0000
TZNAME:GMT
DTSTART:20231029T010000
END:STANDARD
END:VTIMEZONE
BEGIN:VEVENT
DTSTART;VALUE=DATE:20230304
DTEND;VALUE=DATE:20230306
DTSTAMP:20260423T100628
CREATED:20230302T133118Z
LAST-MODIFIED:20230302T133118Z
UID:2511-1677888000-1678060799@www.consett-asc.co.uk
SUMMARY:Derwentside Development Meet 2023
DESCRIPTION:Meet Information \nAdmission for spectators will be: –\n£4 a session or £6 per day\nWeekend Pass £10\n50p start sheets per session.\nConcessions – £3 a session\, £4 per day.\nChildren 12 and under -accompanied by adults\, will be admitted free.
URL:https://www.consett-asc.co.uk/event/derwentside-development-meet-2023/
LOCATION:The Louisa Centre\, The Louise Centre\, Stanley\, County Durham\, DH9 0TE\, United Kingdom
CATEGORIES:Competition,Invitees
END:VEVENT
BEGIN:VEVENT
DTSTART;TZID=Europe/London:20230326T080000
DTEND;TZID=Europe/London:20230326T170000
DTSTAMP:20260423T100628
CREATED:20230307T205336Z
LAST-MODIFIED:20230307T205421Z
UID:2522-1679817600-1679850000@www.consett-asc.co.uk
SUMMARY:Northumberland & Durham 2023 Championships Teams Day
DESCRIPTION:Teams Day 2023 Meet Information
URL:https://www.consett-asc.co.uk/event/northumberland-and-durham-county-championships-teams-day/
LOCATION:Sunderland Aquatic Centre\, Sunderland Aquatic Centre\, SR5 1SU\, United Kingdom
CATEGORIES:Competition,Invitees,N&D,Teams
END:VEVENT
END:VCALENDAR