BEGIN:VCALENDAR
VERSION:2.0
PRODID:-//Consett-ASC - ECPv6.8.3//NONSGML v1.0//EN
CALSCALE:GREGORIAN
METHOD:PUBLISH
X-ORIGINAL-URL:https://www.consett-asc.co.uk
X-WR-CALDESC:Events for Consett-ASC
REFRESH-INTERVAL;VALUE=DURATION:PT1H
X-Robots-Tag:noindex
X-PUBLISHED-TTL:PT1H
BEGIN:VTIMEZONE
TZID:Europe/London
BEGIN:DAYLIGHT
TZOFFSETFROM:+0000
TZOFFSETTO:+0100
TZNAME:BST
DTSTART:20230326T010000
END:DAYLIGHT
BEGIN:STANDARD
TZOFFSETFROM:+0100
TZOFFSETTO:+0000
TZNAME:GMT
DTSTART:20231029T010000
END:STANDARD
END:VTIMEZONE
BEGIN:VEVENT
DTSTART;TZID=Europe/London:20230708T080000
DTEND;TZID=Europe/London:20230708T170000
DTSTAMP:20260423T024829
CREATED:20230210T152158Z
LAST-MODIFIED:20230307T204810Z
UID:2499-1688803200-1688835600@www.consett-asc.co.uk
SUMMARY:Junior League Final
DESCRIPTION:Final to be held at Tynemouth Leisure Centre\, time TBA. \n  \nFacebook Page
URL:https://www.consett-asc.co.uk/event/junior-league-final-2/
LOCATION:Tynemouth\, Tynemouth Swimming Pool\, NE29 9PX\, United Kingdom
CATEGORIES:Competition,Junior League,Selected
END:VEVENT
BEGIN:VEVENT
DTSTART;TZID=Europe/London:20230714T170000
DTEND;TZID=Europe/London:20230716T170000
DTSTAMP:20260423T024829
CREATED:20230704T213447Z
LAST-MODIFIED:20230704T214043Z
UID:2595-1689354000-1689526800@www.consett-asc.co.uk
SUMMARY:Gateshead & Whickham Summer Meet 2023
DESCRIPTION:[vc_row][vc_column][vc_column_text] \nFor meet conditions click here. \nFull schedule of events click here. \nAccepted entries will be posted here as soon as they are available. \nWarm up times to be advised. \n[/vc_column_text][/vc_column][/vc_row]
URL:https://www.consett-asc.co.uk/event/gateshead-whickham-summer-meet-2023/
LOCATION:Dunston Leisure Centre\, Dunston Leisure Centre\, NE11 9PY\, United Kingdom
CATEGORIES:Competition,Invitees,Qualifiers
END:VEVENT
END:VCALENDAR